BEGIN:VCALENDAR
VERSION:2.0
PRODID:-//Coral Restoration Foundation - ECPv6.15.20//NONSGML v1.0//EN
CALSCALE:GREGORIAN
METHOD:PUBLISH
X-WR-CALNAME:Coral Restoration Foundation
X-ORIGINAL-URL:https://coralrestoration.org
X-WR-CALDESC:Events for Coral Restoration Foundation
REFRESH-INTERVAL;VALUE=DURATION:PT1H
X-Robots-Tag:noindex
X-PUBLISHED-TTL:PT1H
BEGIN:VTIMEZONE
TZID:America/New_York
BEGIN:DAYLIGHT
TZOFFSETFROM:-0500
TZOFFSETTO:-0400
TZNAME:EDT
DTSTART:20240310T070000
END:DAYLIGHT
BEGIN:STANDARD
TZOFFSETFROM:-0400
TZOFFSETTO:-0500
TZNAME:EST
DTSTART:20241103T060000
END:STANDARD
BEGIN:DAYLIGHT
TZOFFSETFROM:-0500
TZOFFSETTO:-0400
TZNAME:EDT
DTSTART:20250309T070000
END:DAYLIGHT
BEGIN:STANDARD
TZOFFSETFROM:-0400
TZOFFSETTO:-0500
TZNAME:EST
DTSTART:20251102T060000
END:STANDARD
BEGIN:DAYLIGHT
TZOFFSETFROM:-0500
TZOFFSETTO:-0400
TZNAME:EDT
DTSTART:20260308T070000
END:DAYLIGHT
BEGIN:STANDARD
TZOFFSETFROM:-0400
TZOFFSETTO:-0500
TZNAME:EST
DTSTART:20261101T060000
END:STANDARD
END:VTIMEZONE
BEGIN:VEVENT
DTSTART;VALUE=DATE:20250314
DTEND;VALUE=DATE:20250315
DTSTAMP:20260421T045336
CREATED:20250310T160824Z
LAST-MODIFIED:20250313T190927Z
UID:10000014-1741910400-1741996799@coralrestoration.org
SUMMARY:CRF™ Public Dive Program with Rainbow Reef
DESCRIPTION:Join Rainbow Reef and Coral Restoration Foundation™ for a dive in the Coral Tree Nursery™\, and then head out to the reef for outplanting or monitoring. For an added bonus\, you can also earn the PADI Project AWARE Coral Conservation certification with Rainbow Reef on this special trip! (Certification not required for participation in program.) (Restoration activities are weather dependent.)
URL:https://coralrestoration.org/event/crf-public-dive-program-with-rainbow-reef/
CATEGORIES:Dive & Snorkeling Programs
END:VEVENT
END:VCALENDAR