BEGIN:VCALENDAR
VERSION:2.0
PRODID:-//Coral Restoration Foundation - ECPv6.15.20//NONSGML v1.0//EN
CALSCALE:GREGORIAN
METHOD:PUBLISH
X-ORIGINAL-URL:https://coralrestoration.org
X-WR-CALDESC:Events for Coral Restoration Foundation
REFRESH-INTERVAL;VALUE=DURATION:PT1H
X-Robots-Tag:noindex
X-PUBLISHED-TTL:PT1H
BEGIN:VTIMEZONE
TZID:America/New_York
BEGIN:DAYLIGHT
TZOFFSETFROM:-0500
TZOFFSETTO:-0400
TZNAME:EDT
DTSTART:20240310T070000
END:DAYLIGHT
BEGIN:STANDARD
TZOFFSETFROM:-0400
TZOFFSETTO:-0500
TZNAME:EST
DTSTART:20241103T060000
END:STANDARD
BEGIN:DAYLIGHT
TZOFFSETFROM:-0500
TZOFFSETTO:-0400
TZNAME:EDT
DTSTART:20250309T070000
END:DAYLIGHT
BEGIN:STANDARD
TZOFFSETFROM:-0400
TZOFFSETTO:-0500
TZNAME:EST
DTSTART:20251102T060000
END:STANDARD
BEGIN:DAYLIGHT
TZOFFSETFROM:-0500
TZOFFSETTO:-0400
TZNAME:EDT
DTSTART:20260308T070000
END:DAYLIGHT
BEGIN:STANDARD
TZOFFSETFROM:-0400
TZOFFSETTO:-0500
TZNAME:EST
DTSTART:20261101T060000
END:STANDARD
END:VTIMEZONE
BEGIN:VEVENT
DTSTART;TZID=America/New_York:20250815T130000
DTEND;TZID=America/New_York:20250815T140000
DTSTAMP:20260421T113147
CREATED:20250331T144745Z
LAST-MODIFIED:20250505T160740Z
UID:10000075-1755262800-1755266400@coralrestoration.org
SUMMARY:John Pennekamp State Park Presentation
DESCRIPTION:Join us for our monthly presentation at John Pennekamp Coral Reef State Park. Our presentation discusses biology of coral reefs\, their importance to the environment\, causes of degradation\, and reef restoration practices.
URL:https://coralrestoration.org/event/john-pennekamp-state-park-presentation-4/2025-08-15/
LOCATION:John Pennekamp State Park Visitor’s Center\, 102601 Overseas Hwy\, Key Largo\, FL\, 33037\, United States
CATEGORIES:Events
END:VEVENT
END:VCALENDAR