BEGIN:VCALENDAR
VERSION:2.0
PRODID:-//Coral Restoration Foundation - ECPv6.15.20//NONSGML v1.0//EN
CALSCALE:GREGORIAN
METHOD:PUBLISH
X-ORIGINAL-URL:https://coralrestoration.org
X-WR-CALDESC:Events for Coral Restoration Foundation
REFRESH-INTERVAL;VALUE=DURATION:PT1H
X-Robots-Tag:noindex
X-PUBLISHED-TTL:PT1H
BEGIN:VTIMEZONE
TZID:America/New_York
BEGIN:DAYLIGHT
TZOFFSETFROM:-0500
TZOFFSETTO:-0400
TZNAME:EDT
DTSTART:20240310T070000
END:DAYLIGHT
BEGIN:STANDARD
TZOFFSETFROM:-0400
TZOFFSETTO:-0500
TZNAME:EST
DTSTART:20241103T060000
END:STANDARD
BEGIN:DAYLIGHT
TZOFFSETFROM:-0500
TZOFFSETTO:-0400
TZNAME:EDT
DTSTART:20250309T070000
END:DAYLIGHT
BEGIN:STANDARD
TZOFFSETFROM:-0400
TZOFFSETTO:-0500
TZNAME:EST
DTSTART:20251102T060000
END:STANDARD
BEGIN:DAYLIGHT
TZOFFSETFROM:-0500
TZOFFSETTO:-0400
TZNAME:EDT
DTSTART:20260308T070000
END:DAYLIGHT
BEGIN:STANDARD
TZOFFSETFROM:-0400
TZOFFSETTO:-0500
TZNAME:EST
DTSTART:20261101T060000
END:STANDARD
END:VTIMEZONE
BEGIN:VEVENT
DTSTART;VALUE=DATE:20250402
DTEND;VALUE=DATE:20250403
DTSTAMP:20260425T101910
CREATED:20250310T162621Z
LAST-MODIFIED:20250313T191128Z
UID:10000019-1743552000-1743638399@coralrestoration.org
SUMMARY:CRF™ Public Snorkel Program Silent World
DESCRIPTION:Join Silent World Dive Center and Coral Restoration Foundation™ on a one of a kind snorkeling trip to the Carysfort Nursery\, Coral Restoration Foundation’s and one of the world’s largest coral nursery and nearby restoration site. \nAll programs begin with an educational session before the snorkel trip! Coral Restoration Foundation™ representatives will join on to explain restoration work and\, weather pending\, demonstrate coral outplanting while snorkelers explore from above. Please note that this is a snorkeling opportunity only!
URL:https://coralrestoration.org/event/crf-public-snorkel-program-silent-world-2/
CATEGORIES:Dive & Snorkeling Programs
END:VEVENT
END:VCALENDAR