BEGIN:VCALENDAR
VERSION:2.0
PRODID:-//Coral Restoration Foundation - ECPv6.15.20//NONSGML v1.0//EN
CALSCALE:GREGORIAN
METHOD:PUBLISH
X-ORIGINAL-URL:https://coralrestoration.org
X-WR-CALDESC:Events for Coral Restoration Foundation
REFRESH-INTERVAL;VALUE=DURATION:PT1H
X-Robots-Tag:noindex
X-PUBLISHED-TTL:PT1H
BEGIN:VTIMEZONE
TZID:America/New_York
BEGIN:DAYLIGHT
TZOFFSETFROM:-0500
TZOFFSETTO:-0400
TZNAME:EDT
DTSTART:20240310T070000
END:DAYLIGHT
BEGIN:STANDARD
TZOFFSETFROM:-0400
TZOFFSETTO:-0500
TZNAME:EST
DTSTART:20241103T060000
END:STANDARD
BEGIN:DAYLIGHT
TZOFFSETFROM:-0500
TZOFFSETTO:-0400
TZNAME:EDT
DTSTART:20250309T070000
END:DAYLIGHT
BEGIN:STANDARD
TZOFFSETFROM:-0400
TZOFFSETTO:-0500
TZNAME:EST
DTSTART:20251102T060000
END:STANDARD
BEGIN:DAYLIGHT
TZOFFSETFROM:-0500
TZOFFSETTO:-0400
TZNAME:EDT
DTSTART:20260308T070000
END:DAYLIGHT
BEGIN:STANDARD
TZOFFSETFROM:-0400
TZOFFSETTO:-0500
TZNAME:EST
DTSTART:20261101T060000
END:STANDARD
END:VTIMEZONE
BEGIN:VEVENT
DTSTART;VALUE=DATE:20250417
DTEND;VALUE=DATE:20250418
DTSTAMP:20260425T084522
CREATED:20250310T163531Z
LAST-MODIFIED:20250313T191402Z
UID:10000024-1744848000-1744934399@coralrestoration.org
SUMMARY:CRF™ Public Dive Program with Conch Republic Divers
DESCRIPTION:Join Conch Republic Divers and Coral Restoration Foundation™ for a dive in the Coral Tree Nursery™\, and then head out to the reef for out-planting or monitoring. \nThe program starts at 9:00AM at the Coral Restoration Foundation™ Exploration Center at 5 Seagate Boulevard in Key Largo. \nThis program incurs a dive cost to Conch Republic Divers and a separate donation to Coral Restoration Foundation™\, which is made on site during the morning session at CRF. To learn more about this restoration program and verify dive rates\, please click the “Sign Up Now” button or call Conch Republic Divers at 305-852-1655 or book online at conchrepublicdivers.com to reserve today! \n*Donation to be made on site at Coral Restoration Foundation™ the day of the program event and not to Conch Republic Divers . All dive costs including the base cost of the dive reservation\, additional rental gear\, questions about the certification\, etc to be coordinated with Conch Republic Divers . \n(Restoration activities are weather dependent for the safety of the coral and the divers.)
URL:https://coralrestoration.org/event/crf-public-dive-program-with-conch-republic-divers/
CATEGORIES:Dive & Snorkeling Programs
END:VEVENT
END:VCALENDAR